BEGIN:VCALENDAR
VERSION:2.0
PRODID:-//wp-events-plugin.com//7.2.3.1//EN
TZID:America/New_York
X-WR-TIMEZONE:America/New_York
BEGIN:VEVENT
UID:5103@israelame.com
DTSTART;VALUE=DATE:20250921
DTEND;VALUE=DATE:20250922
DTSTAMP:20250920T223419Z
URL:https://israelame.com/events/zpefwlalevxrj/
SUMMARY:zPeFWLaleVXrj
DESCRIPTION:
CATEGORIES:Weekly Worship Services
LOCATION:http://LQrkMHBF
END:VEVENT
END:VCALENDAR