BEGIN:VCALENDAR
VERSION:2.0
PRODID:-//wp-events-plugin.com//7.2.3.1//EN
TZID:America/New_York
X-WR-TIMEZONE:America/New_York
BEGIN:VEVENT
UID:5096@israelame.com
DTSTART;VALUE=DATE:20250919
DTEND;VALUE=DATE:20250920
DTSTAMP:20250919T084500Z
URL:https://israelame.com/events/wsvapxbvbfasif/
SUMMARY:WSVApxBVBfaSIf
DESCRIPTION:
CATEGORIES:Weekly Worship Services
LOCATION:http://flwRbNYxdtCUyL
END:VEVENT
END:VCALENDAR