BEGIN:VCALENDAR
VERSION:2.0
PRODID:-//wp-events-plugin.com//7.2.3.1//EN
TZID:America/New_York
X-WR-TIMEZONE:America/New_York
BEGIN:VEVENT
UID:3223@israelame.com
DTSTART:20251231T180000Z
DTEND:20251231T190000Z
DTSTAMP:20250525T163450Z
URL:https://israelame.com/events/virtual-bible-study-2025-12-31/
SUMMARY:Virtual Bible Study
DESCRIPTION:
CATEGORIES:Bible Study
END:VEVENT
END:VCALENDAR