BEGIN:VCALENDAR
VERSION:2.0
PRODID:-//wp-events-plugin.com//7.2.3.1//EN
TZID:America/New_York
X-WR-TIMEZONE:America/New_York
BEGIN:VEVENT
UID:4330@israelame.com
DTSTART;TZID=America/New_York:20251102T163000
DTEND;TZID=America/New_York:20251102T183000
DTSTAMP:20250525T164438Z
URL:https://israelame.com/events/virtual-adult-church-school-2025-11-02/
SUMMARY:Virtual Adult Church School
DESCRIPTION:
CATEGORIES:Church School
LOCATION:https://us02web.zoom.us/j/81286228670?pwd=RGl6a2pPL1VQa1Q4dzI5clYz
 MHk4dz09
END:VEVENT
BEGIN:VTIMEZONE
TZID:America/New_York
X-LIC-LOCATION:America/New_York
BEGIN:STANDARD
DTSTART:20251102T010000
TZOFFSETFROM:-0400
TZOFFSETTO:-0500
TZNAME:EST
END:STANDARD
END:VTIMEZONE
END:VCALENDAR