BEGIN:VCALENDAR
VERSION:2.0
PRODID:-//wp-events-plugin.com//7.2.3.1//EN
TZID:America/New_York
X-WR-TIMEZONE:America/New_York
BEGIN:VEVENT
UID:1831@israelame.com
DTSTART;TZID=America/New_York:20400108T090000
DTEND;TZID=America/New_York:20400108T100000
DTSTAMP:20230318T193324Z
URL:https://israelame.com/events/sunday-school-2040-01-08/
SUMMARY:Church School
DESCRIPTION:
CATEGORIES:Church School
LOCATION:https://us02web.zoom.us/j/81286228670?pwd=RGl6a2pPL1VQa1Q4dzI5clYz
 MHk4dz09
END:VEVENT
BEGIN:VTIMEZONE
TZID:America/New_York
X-LIC-LOCATION:America/New_York
BEGIN:STANDARD
DTSTART:20391106T010000
TZOFFSETFROM:-0400
TZOFFSETTO:-0500
TZNAME:EST
END:STANDARD
END:VTIMEZONE
END:VCALENDAR