BEGIN:VCALENDAR
VERSION:2.0
PRODID:-//wp-events-plugin.com//7.2.3.1//EN
TZID:America/New_York
X-WR-TIMEZONE:America/New_York
BEGIN:VEVENT
UID:2805@israelame.com
DTSTART:20251224T120000Z
DTEND:20251224T130000Z
DTSTAMP:20250525T163323Z
URL:https://israelame.com/events/soup-kitchen-2025-12-24/
SUMMARY:Soup Kitchen
DESCRIPTION:
CATEGORIES:Special Events
LOCATION:Israel AME Church - Fellowship Hall\, 381 Hamilton St\, Albany\, N
 Y\, 12210\, United States
X-APPLE-STRUCTURED-LOCATION;VALUE=URI;X-ADDRESS=381 Hamilton St\, Albany\, 
 NY\, 12210\, United States;X-APPLE-RADIUS=100;X-TITLE=Israel AME Church - 
 Fellowship Hall:geo:0,0
END:VEVENT
END:VCALENDAR