BEGIN:VCALENDAR
VERSION:2.0
PRODID:-//wp-events-plugin.com//7.2.3.1//EN
TZID:America/New_York
X-WR-TIMEZONE:America/New_York
BEGIN:VEVENT
UID:4948@israelame.com
DTSTART;VALUE=DATE:20250904
DTEND;VALUE=DATE:20250905
DTSTAMP:20250904T102608Z
URL:https://israelame.com/events/peqvecwhfnw/
SUMMARY:PeqvecwHfNw
DESCRIPTION:
CATEGORIES:Weekly Worship Services
LOCATION:http://AIaCRMQkAnOYz
END:VEVENT
END:VCALENDAR