BEGIN:VCALENDAR
VERSION:2.0
PRODID:-//wp-events-plugin.com//7.2.3.1//EN
TZID:America/New_York
X-WR-TIMEZONE:America/New_York
BEGIN:VEVENT
UID:4887@israelame.com
DTSTART;VALUE=DATE:20250902
DTEND;VALUE=DATE:20250903
DTSTAMP:20250902T120930Z
URL:https://israelame.com/events/odaobzumyjne/
SUMMARY:odaobzUMyJNE
DESCRIPTION:
CATEGORIES:Weekly Worship Services
LOCATION:http://MxeHYDokxnOWQ
END:VEVENT
END:VCALENDAR