BEGIN:VCALENDAR
VERSION:2.0
PRODID:-//wp-events-plugin.com//7.2.3.1//EN
TZID:America/New_York
X-WR-TIMEZONE:America/New_York
BEGIN:VEVENT
UID:4889@israelame.com
DTSTART;VALUE=DATE:20250902
DTEND;VALUE=DATE:20250903
DTSTAMP:20250902T143711Z
URL:https://israelame.com/events/mnykmqpnxdm/
SUMMARY:mnykmQpNXDm
DESCRIPTION:
CATEGORIES:Weekly Worship Services
LOCATION:http://oBGMKckgJWZHpcC
END:VEVENT
END:VCALENDAR