BEGIN:VCALENDAR
VERSION:2.0
PRODID:-//wp-events-plugin.com//7.2.3.1//EN
TZID:America/New_York
X-WR-TIMEZONE:America/New_York
BEGIN:VEVENT
UID:4897@israelame.com
DTSTART;VALUE=DATE:20250902
DTEND;VALUE=DATE:20250903
DTSTAMP:20250902T191350Z
URL:https://israelame.com/events/lpbhstfovos/
SUMMARY:LPbhstFovOs
DESCRIPTION:
CATEGORIES:Weekly Worship Services
LOCATION:http://UTPrnCYtXvqhXhD
END:VEVENT
END:VCALENDAR