BEGIN:VCALENDAR
VERSION:2.0
PRODID:-//wp-events-plugin.com//7.2.3.1//EN
TZID:America/New_York
X-WR-TIMEZONE:America/New_York
BEGIN:VEVENT
UID:5119@israelame.com
DTSTART;VALUE=DATE:20250924
DTEND;VALUE=DATE:20250925
DTSTAMP:20250924T144547Z
URL:https://israelame.com/events/liglffvexujm/
SUMMARY:LigLFFvExujm
DESCRIPTION:
CATEGORIES:Weekly Worship Services
LOCATION:http://olbKMPJRFMlHQ
END:VEVENT
END:VCALENDAR