BEGIN:VCALENDAR
VERSION:2.0
PRODID:-//wp-events-plugin.com//7.2.3.1//EN
TZID:America/New_York
X-WR-TIMEZONE:America/New_York
BEGIN:VEVENT
UID:5123@israelame.com
DTSTART:20260807T090000Z
DTEND:20260807T180000Z
DTSTAMP:20251106T072020Z
URL:https://israelame.com/events/international-conference-on-toxicology-an
 d-pharmacology-2026/
SUMMARY:International Conference on Toxicology and Pharmacology 2026
DESCRIPTION:Welcome to the International Conference on Toxicology and Pharm
 acology Organized by: Inovine Scientific Meetings Dates: August 07–
 08\, 2026 Venue: Amsterdam\, Netherlands Theme: Integrating Toxicolog
 y\, Pharmacology and Precision Medicine \nAbout the Conference: \nThe 
 International Conference on Toxicology and Pharmacology is a premier glob
 al event that brings together leading experts\, researchers and profession
 als in toxicology\, pharmacology\, medicine\, and related fields. This hig
 hly anticipated conference will serve as a dynamic platform for sharing
  ground breaking research\, discussing emerging trends\, exploring inn
 ovative therapeutic strategies and fostering collaborations among academia
 \, industry and regulatory bodies. \nWith participants from across the 
 world\, the conference offers a unique opportunity to delve into the lates
 t advances in clinical and experimental toxicology\, pharmacokinetics\, dr
 ug safety\, molecular pharmacology and therapeutic development\, while 
 addressing global challenges related to public health\, drug regulation
  and environmental safety. 
END:VEVENT
END:VCALENDAR