BEGIN:VCALENDAR
VERSION:2.0
PRODID:-//wp-events-plugin.com//7.2.3.1//EN
TZID:America/New_York
X-WR-TIMEZONE:America/New_York
BEGIN:VEVENT
UID:5127@israelame.com
DTSTART;TZID=Pacific/Wake:20260807T090000
DTEND;TZID=Pacific/Wake:20260807T170000
DTSTAMP:20251121T051048Z
URL:https://israelame.com/events/international-conference-on-geriatrics-ge
 rontology/
SUMMARY:International Conference on Geriatrics &amp\; Gerontology
DESCRIPTION:Dear Attendees\,\n&nbsp\;\nWe are delighted to invite you to th
 e International Conference on Geriatrics &amp\; Gerontology 2026\, hosted 
 by Inovine Meetings LLC\, on August 07–08\, 2026\, in Amsterdam\, Nether
 lands.\nTheme: “Creating a Healthier\, More Inclusive Society for Older 
 Adults Worldwide”\n&nbsp\;\nThis premier global event will unite leading
  experts in geriatrics\, gerontology\, and healthcare innovation to explor
 e the latest research\, strategies\, and solutions in aging care. Engage i
 n inspiring keynotes\, interactive sessions\, and invaluable networking op
 portunities designed to elevate your professional knowledge and impact.\n&
 nbsp\;\nReserve your spot today: https://geriatrics-gerontology.inovinemee
 tings.com/\n&nbsp\;\nSpecial Offer: If 10 members from your organization a
 re interested and register for the conference\, a full registration waiver
  will be provided to your organization’s head or a designated professor\
 , along with a 20% discount on each individual registrations.  \n&nbsp\;\
 nwe look forward to see you at our conference \n&nbsp\;\nWarm regards\,Je
 ssica EllisonProgram ManagerGeriatrics Conference 2026Ph: +1-408-648-2233 
 | WhatsApp: +1 (778) 508-1009
CATEGORIES:Special Events
LOCATION:Netherlands\, Amsterdam\, Netherlands\, Amsterdam\, Amsterdam\, Ne
 therlands\, 1011\, Amsterdam\, Netherlands\, Albania
X-APPLE-STRUCTURED-LOCATION;VALUE=URI;X-ADDRESS=Amsterdam\, Netherlands\, A
 msterdam\, Amsterdam\, Netherlands\, 1011\, Amsterdam\, Netherlands\, Alba
 nia;X-APPLE-RADIUS=100;X-TITLE=Netherlands:geo:0,0
END:VEVENT
BEGIN:VTIMEZONE
TZID:Pacific/Wake
X-LIC-LOCATION:Pacific/Wake
BEGIN:STANDARD
DTSTART:20250807T090000
TZOFFSETFROM:+1200
TZOFFSETTO:+1200
TZNAME:+12
END:STANDARD
END:VTIMEZONE
END:VCALENDAR