BEGIN:VCALENDAR
VERSION:2.0
PRODID:-//wp-events-plugin.com//7.2.3.1//EN
TZID:America/New_York
X-WR-TIMEZONE:America/New_York
BEGIN:VEVENT
UID:4745@israelame.com
DTSTART;TZID=Europe/Madrid:20260528T093000
DTEND;TZID=Europe/Madrid:20260530T183000
DTSTAMP:20250802T084044Z
URL:https://israelame.com/events/global-summit-on-civil-structural-and-env
 ironmental-engineering/
SUMMARY:Global summit on Civil\, Structural and Environmental Engineering.
DESCRIPTION:
LOCATION:madrid spain\, madrid\, madrid\, spain\, 28004\, Spain
X-APPLE-STRUCTURED-LOCATION;VALUE=URI;X-ADDRESS=madrid\, madrid\, spain\, 2
 8004\, Spain;X-APPLE-RADIUS=100;X-TITLE=madrid spain:geo:0,0
END:VEVENT
BEGIN:VTIMEZONE
TZID:Europe/Madrid
X-LIC-LOCATION:Europe/Madrid
BEGIN:DAYLIGHT
DTSTART:20260329T030000
TZOFFSETFROM:+0100
TZOFFSETTO:+0200
TZNAME:CEST
END:DAYLIGHT
END:VTIMEZONE
END:VCALENDAR