BEGIN:VCALENDAR
VERSION:2.0
PRODID:-//wp-events-plugin.com//7.2.3.1//EN
TZID:America/New_York
X-WR-TIMEZONE:America/New_York
BEGIN:VEVENT
UID:5121@israelame.com
DTSTART:20260512T080000Z
DTEND:20260512T150000Z
DTSTAMP:20251017T081731Z
URL:https://israelame.com/events/global-advances-in-drug-discovery-and-pha
 rmaceutical-research/
SUMMARY:Global Advances in Drug Discovery and Pharmaceutical Research
DESCRIPTION:The two-day Pharma Innovation &amp\; Policy Summit in Amsterdam
  (May 12–13\, 2026) will bring together leading figures from academia\, 
 industry\, regulators\, and public health agencies. The agenda includes se
 ssions on drug discovery\, personalized medicine\, regulatory harmonizatio
 n\, clinical trials\, biomanufacturing\, supply chain resilience\, and hea
 lth economics. Renowned keynote speakers will address challenges around an
 timicrobial resistance\, gene and cell therapies\, and digital health inte
 gration. Breakout tracks will allow deep dives into emerging modalities\, 
 market access strategies\, and public–private partnerships for global ac
 cess. Attendees can present posters\, engage in interactive roundtables\, 
 or participate in matchmaking sessions and networking dinners. The venue
 —located in central Amsterdam—features modern conference halls\, exhib
 ition space for service providers\, and easy accessibility. The summit pro
 mises to facilitate cross-disciplinary collaboration\, spark translational
  research opportunities\, and influence policy discourse in Europe and bey
 ond.\n&nbsp\;
CATEGORIES:Special Events
END:VEVENT
END:VCALENDAR