BEGIN:VCALENDAR
VERSION:2.0
PRODID:-//wp-events-plugin.com//7.2.3.1//EN
TZID:America/New_York
X-WR-TIMEZONE:America/New_York
BEGIN:VEVENT
UID:5092@israelame.com
DTSTART;VALUE=DATE:20250918
DTEND;VALUE=DATE:20250919
DTSTAMP:20250918T041803Z
URL:https://israelame.com/events/evthmifrjhcp/
SUMMARY:eVtHmiFrJHCp
DESCRIPTION:
CATEGORIES:Weekly Worship Services
LOCATION:http://EJRYwlqC
END:VEVENT
END:VCALENDAR