BEGIN:VCALENDAR
VERSION:2.0
PRODID:-//wp-events-plugin.com//7.2.3.1//EN
TZID:America/New_York
X-WR-TIMEZONE:America/New_York
BEGIN:VEVENT
UID:5100@israelame.com
DTSTART;VALUE=DATE:20250920
DTEND;VALUE=DATE:20250921
DTSTAMP:20250920T193353Z
URL:https://israelame.com/events/dmkvfexkrot/
SUMMARY:DmkVFExKRot
DESCRIPTION:
CATEGORIES:Weekly Worship Services
LOCATION:http://aKnuFDYOP
END:VEVENT
END:VCALENDAR