BEGIN:VCALENDAR
VERSION:2.0
PRODID:-//wp-events-plugin.com//7.2.3.1//EN
TZID:America/New_York
X-WR-TIMEZONE:America/New_York
BEGIN:VEVENT
UID:1960@israelame.com
DTSTART;VALUE=DATE:20240101
DTEND;VALUE=DATE:20240102
DTSTAMP:20230224T174057Z
URL:https://israelame.com/events/daylight-saving-time-begins-2024-01-01/
SUMMARY:Daylight Saving Time Begins
DESCRIPTION:Remember to “spring forward”
END:VEVENT
END:VCALENDAR