BEGIN:VCALENDAR
VERSION:2.0
PRODID:-//wp-events-plugin.com//7.2.3.1//EN
TZID:America/New_York
X-WR-TIMEZONE:America/New_York
BEGIN:VEVENT
UID:5126@israelame.com
DTSTART:20260723T093000Z
DTEND:20260723T183000Z
DTSTAMP:20251118T130436Z
URL:https://israelame.com/events/4th-international-summit-on-civil-structu
 ral-and-environmental-engineering/
SUMMARY:4th International Summit on Civil\, Structural and Environmental En
 gineering
DESCRIPTION:Spectrum Conferences cordially invites you to its 4th Internati
 onal Summit on Civil\, Structural and Environmental Engineering (ISCSEE202
 6)\, which is going to be held in Prague\, Czech Republic during July 23-2
 5\, 2026.Civil Engineering\, Structural Engineering\, Environmental Engine
 ering\, Geotechnical Engineering\, Transportation Engineering\, Constructi
 on Engineering\, Water Resources Engineering\, Hydraulic Engineering\, Ear
 thquake Engineering\, Coastal Engineering\, Offshore Engineering\, Urban E
 ngineering\, Municipal Engineering\, Tunnel Engineering\, Marine Engineeri
 ng\, Railway Engineering\, Highway Engineering\, Pavement Engineering\, Ai
 rport Engineering\, Dam Engineering\, Reinforced Concrete Structures\, Ste
 el Structures\, Pre-stressed Concrete\, Composite Structures\, Structural 
 Design\, Structural Analysis\, Tall Buildings\, Load-Bearing Structures\, 
 Building Design Codes\, Structural Rehabilitation\, Structural Reliability
 \, Wind Engineering\, Soil Mechanics\, Rock Mechanics\, Foundation Design\
 , Earth Retaining Structures\, Ground Improvement Techniques\, Slope Stabi
 lity\, Geo-environmental Engineering\, Tunneling &amp\; Excavation\, Geosy
 nthetics\, Earthworks\, Surface Water Hydrology\, Groundwater Engineering\
 , Water Supply Systems\, Irrigation Engineering\, Hydraulic Structures\, S
 tormwater Management\, Sediment Transport\, Dams and Reservoirs\, Hydrodyn
 amics\, River Engineering\, Traffic Flow Theory\, Transportation Planning\
 , Intelligent Transportation Systems (ITS)\, Public Transport Systems\, Ro
 ad Safety Engineering\, Highway Design\, Pavement Analysis\, Urban Mobilit
 y\, Smart Urban Infrastructure\, Transportation Modelling\, Building Const
 ruction\, Construction Technology\, Engineering Materials\, Concrete Techn
 ology\, Steel Construction\, Sustainable Construction\, Construction Mater
 ials Testing\, Masonry Structures\, Construction Equipment\, Formwork and 
 Scaffolding\, Engineering Surveying\, Geomatics\, Remote Sensing\, Geograp
 hic Information Systems (GIS)\, Photogrammetry\, Total Station\, Land Surv
 eying\, civil engineering conferences 2026\, structural engineering confer
 ences 2026\, environmental engineering conferences 2026Steel buildings\; a
 nalysis\, design\, and performance assessment of structures\, Civil and ur
 ban engineering\, urban and regional planning program\, Pipelines\, degrad
 ation\, structural integrity\, reliability\, risk and fracture mechanics\,
  Structural performance\, sustainability and asset management with emphasi
 s on durability and rehabilitation of concrete structures\, Energy consump
 tion in buildings\, indoor air quality\, HVAC systems and energy sources\,
  Field of maintenance\, durability\, sustainability\, work yard management
 \, Civil engineers SEI technical committee on dynamic effects\, sub-commit
 tee on retrofit of structures under dynamic loads\, Project structural ana
 lysis\, reinforced concrete\, composites\, finite element modelling\, inno
 vative materials\, Steel buildings\; analysis\, design\, and performance a
 ssessment of structures\, Structural engineering\, concrete and steel stru
 ctures\, bridges\, finite element simulations\, structural analysis\, seis
 mic design\, and blast resistant design\, infrastructure asset management\
 , public-private partnership\, engineering risk and reliability\, inspecti
 on and maintenance optimization\, structural biomechanics\, and in particu
 lar the development of biofidelic free boundary condition numerical models
 \, civil engineering \, civil engineering conferences 2026\, structural en
 gineering\, transportation engineering\, geotechnical engineering\, enviro
 nmental engineering\, water resources engineering\, construction managemen
 t\, urban planning\, surveying\, foundation design\, earthquake engineerin
 g\, bridge engineering\, highway engineering\, traffic engineering\, hydro
 logy\, hydraulics\, soil mechanics\, concrete technology\, steel structure
 s\, project management\, sustainable infrastructure\, drainage systems\, l
 and development\, building materials\, finite element analysis\, dams\, tu
 nnels\, pavement design\, infrastructure rehabilitation\, GIS (Geographic 
 Information Systems)\, CAD (Computer-Aided Design)\, Frankfurt\, Germany\,
  structural engineering\, structural analysis\, finite element analysis\, 
 reinforced concrete\, steel structures\, prestressed concrete\, bridge des
 ign\, earthquake engineering\, seismic design\, load calculations\, buildi
 ng design\, structural dynamics\, wind engineering\, structural safety\, f
 oundation design\, structural health monitoring\, tall buildings\, masonry
  structures\, timber structures\, structural stability\, load bearing syst
 ems\, trusses\, frames\, slabs\, beams\, columns\, shear walls\, structura
 l retrofitting\, computational mechanics\, structural optimization\, const
 ruction materials\, durability of structures\, earthquake engineering\, se
 ismic design\, seismic analysis\, base isolation\, energy dissipation devi
 ces\, structural dynamics\, lateral load resistance\, ductility\, earthqua
 ke loads\, seismic retrofitting\, seismic vulnerability assessment\, perfo
 rmance-based design\, structural resilience\, ground motion\, response spe
 ctrum analysis\, time history analysis\, seismic zoning\, seismic hazard a
 ssessment\, shear walls\, moment-resisting frames\, cross bracing\, tuned 
 mass dampers\, soil-structure interaction\, seismic detailing\, capacity d
 esign\, displacement-based design\, bridge engineering\, bridge design\, c
 able-stayed bridges\, suspension bridges\, arch bridges\, beam bridges\, t
 russ bridges\, bridge dynamics\, load rating\, bridge rehabilitation\, bri
 dge inspection\, fatigue analysis\, bridge foundation\, abutments\, piers\
 , superstructure\, substructure\, prestressed concrete bridges\, steel gir
 der bridges\, composite bridges\, expansion joints\, bearings\, live load\
 , dead load\, seismic design of bridges\, wind load analysis\, finite elem
 ent modeling of bridges\, bridge maintenance\, bridge management systems\,
  structural health monitoring\, sensors in civil structures\, vibration an
 alysis\, modal analysis\, wireless sensor networks\, damage detection\, fa
 tigue monitoring\, strain gauges\, accelerometers\, displacement sensors\,
  structural condition assessment\, nondestructive testing (NDT)\, fiber op
 tic sensors\, data acquisition systems\, SHM data interpretation\, long-te
 rm monitoring\, real-time monitoring\, crack detection\, corrosion monitor
 ing\, remote sensing\, machine learning in SHM\, structural diagnostics\, 
 sensor placement optimization\, finite element model updating\, infrastruc
 ture monitoring systems\, smart materials\, shape memory alloys (SMA)\, fi
 ber-reinforced polymers (FRP)\, piezoelectric materials\, self-healing con
 crete\, magnetorheological dampers\, electrorheological fluids\, sensors i
 n smart structures\, active control systems\, adaptive structures\, vibrat
 ion control\, energy dissipation devices\, corrosion-resistant materials\,
  nano-engineered concrete\, structural health monitoring (SHM) sensors\, i
 ntelligent materials\, self-sensing materials\, durability enhancement\, a
 dvanced composite materials\, multifunctional materials\, nanotechnology i
 n construction\, carbon fiber composites\, hybrid materials\, temperature-
 responsive materials\, stress monitoring materials\, bio-inspired material
 s\, artificial intelligence in structural engineering\, machine learning f
 or structural analysis\, deep learning in structural health monitoring\, p
 attern recognition in damage detection\, AI-based load prediction\, predic
 tive maintenance\, structural optimization using AI\, neural networks for 
 structural assessment\, image processing for crack detection\, AI-driven f
 inite element analysis\, surrogate modeling\, data-driven structural desig
 n\, genetic algorithms in structural optimization\, evolutionary algorithm
 s\, fuzzy logic systems in engineering\, AI for seismic performance predic
 tion\, reinforcement learning in civil structures\, big data analytics in 
 infrastructure\, AI-based construction management\, automated defect detec
 tion\, intelligent decision support systems\, anomaly detection in bridges
 \, AI for material behavior modeling\, AI for risk assessment\, real-time 
 monitoring with AI\, digital twin in structural engineering\, AI-enhanced 
 BIM integration\, artificial intelligence in construction\, AI-based proje
 ct scheduling\, predictive analytics in construction\, machine learning fo
 r project risk management\, AI for cost estimation\, automated progress tr
 acking\, computer vision in construction sites\, resource allocation optim
 ization\, AI-driven safety monitoring\, site activity recognition\, AI in 
 supply chain management\, decision support systems for construction\, real
 -time productivity tracking\, construction site robotics\, AI-powered qual
 ity control\, defect detection in construction\, natural language processi
 ng for contract analysis\, AI in dispute resolution\, predictive maintenan
 ce of construction equipment\, AI-driven design optimization\, digital twi
 ns for construction sites\, AI for workforce management\, smart constructi
 on site monitoring\, autonomous construction vehicles\, AI-enabled BIM int
 egration\, AI in disaster risk management\, predictive disaster modeling\,
  AI-based early warning systems\, machine learning for earthquake damage p
 rediction\, flood risk assessment using AI\, AI-driven emergency response 
 planning\, landslide hazard prediction\, AI-based structural vulnerability
  assessment\, deep learning for post-disaster damage detection\, real-time
  infrastructure monitoring\, AI for disaster recovery logistics\, AI-enabl
 ed crisis mapping\, drone-based disaster assessment\, AI for shelter alloc
 ation\, natural disaster impact forecasting\, smart evacuation route plann
 ing\, AI in urban resilience planning\, machine learning for fire hazard p
 rediction\, AI-driven resource distribution during emergencies\, infrastru
 cture resilience modeling\, remote sensing with AI\, AI in climate resilie
 nce infrastructure\, big data for disaster risk reduction\, multi-hazard r
 isk assessment\, AI for infrastructure continuity planning\, environmental
  engineering\, water treatment\, wastewater management\, air pollution con
 trol\, solid waste management\, environmental impact assessment\, soil rem
 ediation\, hazardous waste management\, sustainable development\, environm
 ental monitoring\, climate change mitigation\, environmental regulations\,
  renewable energy\, environmental microbiology\, green engineering\, pollu
 tion prevention\, environmental modeling\, environmental risk assessment\,
  ecological engineering\, bioremediation\, water quality analysis\, enviro
 nmental policy\, environmental chemistry\, environmental toxicology\, wast
 e recycling\, environmental planning\, environmental sustainability\, carb
 on footprint reduction\, noise pollution control\, environmental health\, 
 groundwater contamination\, water treatment\, wastewater treatment\, biolo
 gical treatment\, membrane filtration\, activated sludge process\, sedimen
 tation\, disinfection\, nutrient removal\, sludge management\, water recyc
 ling\, desalination\, contaminant removal\, water quality standards\, adva
 nced oxidation processes\, coagulation and flocculation\, adsorption\, wat
 er distribution systems\, anaerobic digestion\, filtration\, bioreactors\,
  air pollution control\, particulate matter\, sulfur dioxide removal\, nit
 rogen oxides reduction\, carbon monoxide control\, industrial emissions\, 
 scrubbers\, electrostatic precipitators\, catalytic converters\, volatile 
 organic compounds\, indoor air quality\, greenhouse gas emissions\, air mo
 nitoring\, odor control\, air quality standards\, stack emissions\, smog\,
  atmospheric dispersion modeling\, air filtration\, solid waste management
 \, hazardous waste\, landfills\, recycling\, composting\, waste-to-energy\
 , incineration\, waste minimization\, hazardous material handling\, e-wast
 e management\, hazardous waste treatment\, leachate management\, waste seg
 regation\, environmental compliance\, waste characterization\, sustainable
  waste management\, resource recovery\, industrial waste\, chemical waste 
 disposal\, soil remediation\, groundwater contamination\, bioremediation\,
  phytoremediation\, soil vapor extraction\, chemical oxidation\, pump and 
 treat\, natural attenuation\, in-situ remediation\, contaminated site asse
 ssment\, heavy metals removal\, soil washing\, permeable reactive barriers
 \, soil stabilization\, groundwater monitoring\, pollutant migration\, cli
 mate change mitigation\, carbon footprint\, renewable energy\, greenhouse 
 gas inventory\, sustainable development\, energy efficiency\, carbon captu
 re and storage\, climate adaptation\, life cycle assessment\, environmenta
 l policy\, sustainable urban planning\, carbon trading\, low carbon techno
 logies\, environmental economics\, environmental monitoring\, sensor netwo
 rks\, remote sensing\, GIS in environmental engineering\, environmental mo
 deling\, air quality modeling\, water quality modeling\, pollutant transpo
 rt modeling\, data analysis\, environmental databases\, environmental risk
  modeling\, climate modeling\, ecosystem modeling\, environmental data vis
 ualization\niscsee@spectrumconferences.com\nWebsite URL: https://civilengi
 neering.spectrumconferences.com/Registration URL: https://civilengineering
 .spectrumconferences.com/registrationContact URL: https://civilengineering
 .spectrumconferences.com/contactAbstract Submission URL: https://civilengi
 neering.spectrumconferences.com/abstract-submission
CATEGORIES:Special Events
END:VEVENT
END:VCALENDAR