BEGIN:VCALENDAR
VERSION:2.0
PRODID:-//wp-events-plugin.com//7.2.3.1//EN
TZID:America/New_York
X-WR-TIMEZONE:America/New_York
BEGIN:VEVENT
UID:4886@israelame.com
DTSTART:20260420T090000Z
DTEND:20260422T180000Z
DTSTAMP:20250902T115426Z
URL:https://israelame.com/events/3rd-international-summit-on-robotics-arti
 ficial-intelligence-machine-learning/
SUMMARY:3rd International Summit on Robotics\, Artificial Intelligence &amp
 \; Machine Learning
DESCRIPTION:#ISRAI2026\, #Robotics\, #AI\, #Innovation\, #MachineLearning\,
  #Frankfurt2026\, #RoboticsConference\, #SmartRobotics\, #RoboticsEngineer
 ing\, #FutureTech\, #Automation\, #AICommunity\, #DigitalTransformation\, 
 #AIResearch\, #Engineering\, #SmartManufacturing\, #HumanoidRobots\, #Coll
 aborativeRobots\, #Cobots\, #RobotDesign\, #AIinHealthcare\, #AIinManufact
 uring\, #AIinFinance\, #RoboticsInnovation\, #ArtificialIntelligence\, #Ed
 geComputing\, #NextGenTech\, #DisruptiveInnovation\, #AIConference\, #Robo
 ticsSummit\, #RoboticsGermany\, #RoboticsEurope\, #RoboticsUSA\, #Robotics
 UK\, #RoboticsJapan\, #RoboticsSingapore\, #RoboticsCanada\, #RoboticsChin
 a\, #RoboticsIndia\, #RoboticsIsrael\, #RoboticsAustralia\, #RoboticsFranc
 e\, #RoboticsItaly\, #RoboticsKorea\, #FrankfurtTech\, #FrankfurtEvents\, 
 #TechEvents2026\, #TechGermany\, #AIandRobotics\, #RoboticsResearch\, #AII
 nnovation\, #DigitalEngineering\, #SmartAutomation\, #AILeadership\, #Neur
 alNetworks\, #DeepLearning\, #CognitiveRobotics\, #RobotLearning\, #RobotT
 echnology\, #AutonomousSystems\, #AutonomousVehicles\, #EngineeringInnovat
 ion\, #TechLeaders\, #WomenInRobotics\, #WomenInAI\, #TechConference\, #AI
 Showcase\, #AIImpact\, #MLApplications\, #AIandML\, #SmartTechnology\, #In
 telligentMachines\, #SmartSystems\, #IntelligentTech\, #AITransformations\
 , #RobotDevelopers\, #AIApplications\, #AIWorld2026\, #TechDriven\, #Futur
 eOfAI\, #RobotScience\, #TechLeadership\, #AIinRobotics\, #Mechatronics\, 
 #SmartFactories\, #AIForGood\, #ShapeTheFuture\, #EngineeringSummit2026\, 
 #AIEngineering\, #RoboticsForum\, #StartupTech\, #RobotAI\, #AIandAutomati
 on\, #EngineeringFuture\, #RPA\, #AIandDataScience\, #CuttingEdgeTech\, #D
 igitalRevolution\, #ResearchAndDevelopment\, #GermanyTechSummit\, #Enginee
 ringTechnology\, #AITrends2026\, #FrankfurtInnovation\, #TechNetworking\, 
 #RoboticsCommunity\, #TechTalks2026\, #SmartSolutions\, #AIInnovation2026\
 , #MachineVision\, #GlobalRobotics\, #RoboticsWorld\, #TechUpdates2026\, #
 AutomationTech\, #AdvancedAutomation\, #IndustrialRobots\, #MedicalRobots\
 , #CyberPhysicalSystems\, #AIandEngineering\, #FrankfurtRobotSummit\, #AIC
 onference2026\, #RobotEthics\, #AutomationSolutions\, #AIThoughtLeadership
END:VEVENT
END:VCALENDAR