BEGIN:VCALENDAR
VERSION:2.0
PRODID:-//wp-events-plugin.com//7.2.3.1//EN
TZID:America/New_York
X-WR-TIMEZONE:America/New_York
BEGIN:VEVENT
UID:5097@israelame.com
DTSTART:20260416T093000Z
DTEND:20260416T180000Z
DTSTAMP:20250920T052005Z
URL:https://israelame.com/events/2nd-international-conference-on-infrastru
 cture-and-construction-engineering/
SUMMARY:2nd International Conference on Infrastructure and Construction Eng
 ineering
DESCRIPTION:Join us at the 2nd International Conference on Infrastructure a
 nd Construction Engineering (ICICE2026) in Paris\, France\, from April 16-
 18\, 2026. This conference will bring together professionals\, researchers
 \, and industry experts to explore the latest trends and innovations in in
 frastructure and construction engineering.Discussions will cover a wide ra
 nge of topics\, including smart infrastructure\, sustainability in constru
 ction\, BIM (Building Information Modeling)\, and construction safety. It 
 is an excellent opportunity to connect with peers\, learn from experts\, a
 nd gain valuable insights into the future of the industry.Do not miss out 
 on this exciting event in Paris to shape the future of infrastructure and 
 construction!#SmartInfrastructure #SustainableConstruction #FutureOfCivil 
 #BuildBetterCities #GreenEngineering #ConcreteInnovation #NextGenInfrastru
 cture #ResilientStructures #TechInConstruction #CivilBuildsTomorrow We loo
 k forward to the honor of welcoming you to ICICE2026 in Paris\, France.\nT
 hanks and Best Regards\,Anusha | Conference SecretaryInfrastructure-2026
CATEGORIES:Special Events
END:VEVENT
END:VCALENDAR