BEGIN:VCALENDAR
VERSION:2.0
PRODID:-//wp-events-plugin.com//7.2.3.1//EN
TZID:America/New_York
X-WR-TIMEZONE:America/New_York
BEGIN:VEVENT
UID:5125@israelame.com
DTSTART:20260416T090000Z
DTEND:20260416T180000Z
DTSTAMP:20251113T061906Z
URL:https://israelame.com/events/2nd-international-conference-on-gravitati
 on-astrophysics-and-cosmology/
SUMMARY:2nd International Conference on Gravitation\, Astrophysics and Cosm
 ology
DESCRIPTION:We are pleased to announce the 2nd International Conference on 
 Gravitation\, Astrophysics and Cosmology (ICGAC2026)\, which will be held 
 from April 16–18\, 2026\, in Paris\, France. ICGAC2026 aims to bring tog
 ether leading researchers\, scientists\, and students from around the worl
 d to share the latest advancements and research findings in the fields of 
 gravitation\, astrophysics\, and cosmology. The conference will feature ke
 ynote talks by renowned experts\, sessions on cutting-edge topics such as 
 Gravitation Physics and Lensing\, Applied Relativity\, Solar and Stellar P
 hysics\, Applied Physics\, and Neutrino Cosmology\, as well as opportuniti
 es for networking and collaboration. With a vibrant mix of academic and in
 dustry perspectives\, this event offers a unique platform for insightful d
 iscussions\, new partnerships\, and the exchange of groundbreaking ideas. 
 Join us in Paris to be part of an engaging scientific experience and contr
 ibute to shaping the future of astrophysical research.
END:VEVENT
END:VCALENDAR