BEGIN:VCALENDAR
VERSION:2.0
PRODID:-//wp-events-plugin.com//7.2.3.1//EN
TZID:America/New_York
X-WR-TIMEZONE:America/New_York
BEGIN:VEVENT
UID:5128@israelame.com
DTSTART;TZID=Europe/Rome:20260615T090000
DTEND;TZID=Europe/Rome:20260615T180000
DTSTAMP:20251121T081840Z
URL:https://israelame.com/events/2nd-international-conference-on-applied-s
 cience-engineering-and-technology/
SUMMARY:2nd International Conference on Applied Science\, Engineering and T
 echnology
DESCRIPTION:The 2nd International conference on Applied Science\, Engineeri
 ng and Technology (ICAET2026)\, organized by Conplus Meeting will be held 
 on June 15-17\, 2026 in Florence\, Italy.\nICAET2026 represent vital gathe
 rings that unite experts and enthusiasts from diverse disciplines worldwid
 e. These events serve as dynamic forums where cutting-edge research\, tech
 nological advancements\, and practical applications converge to address gl
 obal challenges and foster innovation.\nApplied sciences such as Physics\,
  Chemistry\, Biology\, Environmental Science\, and Materials Science contr
 ibute to innovative solutions addressing global challenges. Concurrently\,
  Engineering disciplines encompass Civil\, Mechanical\, Electrical\, Chemi
 cal\, and Biomedical Engineering\, among others\, focusing on designing an
 d implementing real-world solutions. Technology fields\, including Compute
 r Science\, Information Technology\, Robotics\, Artificial Intelligence\, 
 and Data Science\, Drive Digital Innovation and System Advancements\, shap
 ing the future of technological applications and interdisciplinary collabo
 rations in these dynamic conferences.\nJoin us at ICAET2026 in Florence\, 
 Italy for a truly unforgettable experience!\nBest Regards\,Lakshmi Prasann
 a | Program CoordinatorICAET2026
CATEGORIES:Special Events
LOCATION:Italy\, Florence\, Italy\, Florence\, Tuscany Region\, 50121\, Tus
 cany Region\, Italy
X-APPLE-STRUCTURED-LOCATION;VALUE=URI;X-ADDRESS=Florence\, Italy\, Florence
 \, Tuscany Region\, 50121\, Tuscany Region\, Italy;X-APPLE-RADIUS=100;X-TI
 TLE=Italy:geo:0,0
END:VEVENT
BEGIN:VTIMEZONE
TZID:Europe/Rome
X-LIC-LOCATION:Europe/Rome
BEGIN:DAYLIGHT
DTSTART:20260329T030000
TZOFFSETFROM:+0100
TZOFFSETTO:+0200
TZNAME:CEST
END:DAYLIGHT
END:VTIMEZONE
END:VCALENDAR