BEGIN:VCALENDAR
VERSION:2.0
PRODID:-//wp-events-plugin.com//7.2.3.1//EN
TZID:America/New_York
X-WR-TIMEZONE:America/New_York
BEGIN:VEVENT
UID:5133@israelame.com
DTSTART:20261019T090000Z
DTEND:20261020T170000Z
DTSTAMP:20260306T112915Z
URL:https://israelame.com/events/25th-global-summit-on-nursing-education-a
 nd-practice-gsnep-2026/
SUMMARY:25th Global Summit on Nursing Education and Practice (GSNEP 2026)
DESCRIPTION:It is with immense enthusiasm that we invite you to join the 25
 th Global Summit on Nursing Education and Practice (GSNEP 2026) - a landma
 rk event uniting visionary nursing professionals\, educators\, researchers
 \, policymakers and healthcare leaders from across the globe.Set to take p
 lace October 19–20\, 2026 in Los Angeles\, USA and virtually worldwide\,
  GSNEP 2026 serves as a vibrant platform for innovation\, collaboration an
 d transformation in nursing and healthcare education.Website: https://nurs
 ingeducationmeetings.com/Participants will be awarded both CE Credits (acc
 redited by the California Board of Registered Nursing) and CPD Credits.Und
 er the compelling theme\, 'Bridging Education and Practice: Advancing Exce
 llence in Nursing\,' this summit will explore how education and clinical e
 xpertise can converge to redefine the standards of modern nursing. Through
  the exchange of ideas\, groundbreaking research and practical strategies\
 , GSNEP 2026 aims to strengthen the global nursing workforce and inspire m
 eaningful\, measurable change in patient care.More than a conference\, GSN
 EP 2026 is a movement - a space where ideas become initiatives\, knowledge
  becomes impact and collaboration shapes the future of nursing. Join us in
  driving excellence\, advancing leadership and celebrating the shared miss
 ion of improving health outcomes worldwide.
CATEGORIES:Special Events
LOCATION:USA\, Los Angeles\, USA\, Los Angeles\, California\, 90001\, Unite
 d States
X-APPLE-STRUCTURED-LOCATION;VALUE=URI;X-ADDRESS=Los Angeles\, USA\, Los Ang
 eles\, California\, 90001\, United States;X-APPLE-RADIUS=100;X-TITLE=USA:g
 eo:0,0
END:VEVENT
END:VCALENDAR