BEGIN:VCALENDAR
VERSION:2.0
PRODID:-//wp-events-plugin.com//7.2.3.1//EN
TZID:America/New_York
X-WR-TIMEZONE:America/New_York
BEGIN:VEVENT
UID:5137@israelame.com
DTSTART:20261019T090000Z
DTEND:20261019T180000Z
DTSTAMP:20260317T093123Z
URL:https://israelame.com/events/24th-global-summit-on-nursing-education-h
 ealth-care-scheduled-to-take-place-on-october-19-20-2026-in-the-vibrant-ci
 ty-of-tokyo-japan-4/
SUMMARY:24th Global Summit on Nursing Education &amp\; Health Care\, schedu
 led to take place on October 19–20\, 2026\, in the vibrant city of Tokyo
 \, Japan.
DESCRIPTION:We are honored to invite you to the 24th Global Summit on Nursi
 ng Education &amp\; Health Care\, scheduled to take place on October 19–
 20\, 2026\, in the vibrant city of Tokyo\, Japan.\nTheme: “Fostering Exc
 ellence in Nursing: Research\, Education &amp\; Collaborative Practice”\
 nParticipants will have the opportunity to:\n✔ Discover innovative resea
 rch and best practices in nursing education and clinical care✔ Engage in
  meaningful discussions with global healthcare experts and thought leaders
 ✔ Share knowledge and experiences that advance patient outcomes and nurs
 ing excellence✔ Build impactful international collaborations to strength
 en healthcare systems worldwide✔ Participate in workshops\, keynote sess
 ions and panel discussions led by distinguished speakers\nJoin us in Tokyo
 —or participate virtually—for two enriching days of learning\, network
 ing\, and professional growth\, dedicated to advancing the nursing profess
 ion across borders.\nFor more details\, please visit:https://nursingeducat
 ion.inovineconferences.com\nWarm regards\,Monica BlairProgram ManagerNursi
 ng Education Summit 2026Tokyo\, JapanWhatsApp: +1 (714) 970-4946
END:VEVENT
END:VCALENDAR