BEGIN:VCALENDAR
VERSION:2.0
PRODID:-//wp-events-plugin.com//7.2.3.1//EN
TZID:America/New_York
X-WR-TIMEZONE:America/New_York
BEGIN:VEVENT
UID:5120@israelame.com
DTSTART;VALUE=DATE:20251005
DTEND;VALUE=DATE:20251006
DTSTAMP:20251005T050205Z
URL:https://israelame.com/events/20sq3w/
SUMMARY:20sq3w
DESCRIPTION:2pl818
CATEGORIES:Weekly Worship Services
LOCATION:https://graph.org/Get-your-BTC-09-04
END:VEVENT
END:VCALENDAR