BEGIN:VCALENDAR
VERSION:2.0
PRODID:-//wp-events-plugin.com//7.2.3.1//EN
TZID:America/New_York
X-WR-TIMEZONE:America/New_York
BEGIN:VEVENT
UID:5124@israelame.com
DTSTART:20260413T090000Z
DTEND:20260413T170000Z
DTSTAMP:20251110T100327Z
URL:https://israelame.com/events/19th-world-congress-on-nursing-education-
 health-care/
SUMMARY:19th World Congress  on Nursing Education &amp\; Health Care
DESCRIPTION:Warm Greetings!\nWe are excited to invite you to the 19th Worl
 d Congress on Nursing Education &amp\; Health Care\, taking place April 1
 3–15\, 2026\, at the Holiday Inn Singapore Atrium\, Singapore.\nTheme:
  Nursing Education for Sustainable Healthcare Systems\n1. Present your re
 search and insights before a global audience of nursing professionals2. Pa
 rticipate in engaging keynote sessions and interactive discussionsConnect 
 and3. Collaborate with leaders shaping the future of nursing education\nJo
 in us as a speaker or delegate and be part of this premier international
  gathering advancing innovation in nursing and healthcare.\nMore details:
  https://nursingeducationconferences.com/Submit your abstract: https://n
 ursingeducationconferences.com/submit-abstract.php\nWe look forward to wel
 coming you to Singapore!Best regards\,Liora Ellison | Conference Manager
  19th Nursing Education Congress 2026Whatsapp: +1 (408) 933-9154
CATEGORIES:Special Events
LOCATION:Singapore 169075\, Holiday Inn Singapore Atrium\, Singapore 317 Ou
 tram Rd\, Singapore 169075\, maryland\, FL\, 54608\, NE\, Singapore
X-APPLE-STRUCTURED-LOCATION;VALUE=URI;X-ADDRESS=Holiday Inn Singapore Atriu
 m\, Singapore 317 Outram Rd\, Singapore 169075\, maryland\, FL\, 54608\, N
 E\, Singapore;X-APPLE-RADIUS=100;X-TITLE=Singapore 169075:geo:0,0
END:VEVENT
END:VCALENDAR