BEGIN:VCALENDAR
VERSION:2.0
PRODID:-//wp-events-plugin.com//7.2.3.1//EN
TZID:America/New_York
X-WR-TIMEZONE:America/New_York
BEGIN:VEVENT
UID:4947@israelame.com
DTSTART:20260413T090000Z
DTEND:20260413T180000Z
DTSTAMP:20250904T101024Z
URL:https://israelame.com/events/19th-world-congress-on-nursing-education-
 health-care-2026/
SUMMARY:19th World Congress  on Nursing Education &amp\; Health Care 2026
DESCRIPTION:For Next Year “19th World Congress on Nursing Education &amp\
 ; Healthcare” is scheduled for April 13–15\, 2026 at Singapore.We cord
 ially invites all the Professors\, Deans\, Scientists\, Researchers\, Rese
 arch Scholars\, Healthcare Experts\, Delegates\, Industrialists\, and Stud
 ents to exchange and share their experiences and research findings in the 
 field of Nursing Education and Healthcare.Theme: “Nursing Education for 
 Sustainable Healthcare Systems”For more details\, contact: nursingeducat
 ionsummit@inovineconferences.com Looking forward to hear from you.With Reg
 ards\,Liora EllisonConference ManagerNursing Education Congress 2026Phone:
  +1-662-601-8380WhatsApp: +1 (408) 933-9154Website: https://nursingeducati
 onconferences.com/
CATEGORIES:Special Events
LOCATION:Singapore 169075\, Holiday Inn Singapore Atrium\, Singapore 317 Ou
 tram Rd\, Singapore 169075\, maryland\, FL\, 54608\, NE\, Singapore
X-APPLE-STRUCTURED-LOCATION;VALUE=URI;X-ADDRESS=Holiday Inn Singapore Atriu
 m\, Singapore 317 Outram Rd\, Singapore 169075\, maryland\, FL\, 54608\, N
 E\, Singapore;X-APPLE-RADIUS=100;X-TITLE=Singapore 169075:geo:0,0
END:VEVENT
END:VCALENDAR