BEGIN:VCALENDAR
VERSION:2.0
PRODID:-//wp-events-plugin.com//7.2.3.1//EN
TZID:America/New_York
X-WR-TIMEZONE:America/New_York
BEGIN:VEVENT
UID:5129@israelame.com
DTSTART:20260803T090000Z
DTEND:20260803T170000Z
DTSTAMP:20251201T062048Z
URL:https://israelame.com/events/12th-global-summit-on-cancer-science-and-
 therapy/
SUMMARY:12th Global Summit on Cancer Science and Therapy
DESCRIPTION:We are thrilled to announce the 12th Global Summit on Cancer Sc
 ience and Therapy (GSCST 2026)\, taking place in Zurich\, Switzerland\, an
 d virtually from August 03–04\, 2026. This highly anticipated event brin
 gs together cancer researchers\, oncologists\, clinicians\, scientists\, i
 ndustry experts\, and educators from across the globe to share groundbreak
 ing work and collaborative strategies for advancing cancer science and imp
 roving patient care.\nThe theme for this year’s congress is:🌟 "Holist
 ic Advances in Cancer Care: Precision\, Prevention\, and Progress."\nThis 
 theme underscores the critical importance of innovative research\, precisi
 on medicine\, early detection\, preventive oncology\, and comprehensive th
 erapeutic approaches in shaping the future of global cancer care and polic
 y.\n🔗 Website: https://cancer-events.com/  \nIn an era of rapid advanc
 ements in oncology\, the Global Summit on Cancer Science and Therapy will 
 serve as a dynamic platform to exchange ideas\, showcase impactful researc
 h findings\, and foster interdisciplinary collaborations. The two-day even
 t will feature:\n\nInspiring keynote speeches from global leaders in cance
 r research\nOral and poster presentations highlighting cutting-edge discov
 eries\nPanel discussions addressing current challenges and emerging trends
 \nInteractive workshops for skill-building and knowledge enhancement\nUniq
 ue networking opportunities with pioneers in oncology and healthcare\n\nWh
 ether you’re a seasoned cancer researcher\, an oncology professional\, o
 r an emerging scholar\, your participation will contribute to strengthenin
 g the global scientific community and accelerating progress in cancer rese
 arch and therapy.\nJoin us at the 12th Global Summit on Cancer Science and
  Therapy—a premier gathering to engage in meaningful dialogue\, celebrat
 e innovation\, and drive lasting impact in cancer science and patient-cent
 ered care.
LOCATION:Switzerland\, IntercityHotel Zürich Airport Address: Flughofstras
 se 63\, 8153 Rümlang\, Switzerland\, Zurich\, Switzerland\, 8001\, Switze
 rland
X-APPLE-STRUCTURED-LOCATION;VALUE=URI;X-ADDRESS=IntercityHotel Zürich Airp
 ort Address: Flughofstrasse 63\, 8153 Rümlang\, Switzerland\, Zurich\, Sw
 itzerland\, 8001\, Switzerland;X-APPLE-RADIUS=100;X-TITLE=Switzerland:geo:
 0,0
END:VEVENT
END:VCALENDAR