BEGIN:VCALENDAR
VERSION:2.0
PRODID:-//wp-events-plugin.com//7.2.3.1//EN
TZID:America/New_York
X-WR-TIMEZONE:America/New_York
BEGIN:VEVENT
UID:5122@israelame.com
DTSTART:20260722T090000Z
DTEND:20260722T170000Z
DTSTAMP:20251018T070151Z
URL:https://israelame.com/events/11th-international-congress-on-cancer-sci
 ence-and-radiology/
SUMMARY:11th International Congress on Cancer Science and Radiology
DESCRIPTION:Respected Team\,Greetings from Inovine Scientific Meetings.Inov
 ine Scientific Meetings\, the world class open access publisher &amp\; sci
 entific event’s organizer is delighted to welcome you for the prestigiou
 s “11th International Congress on Cancer Science Radiology” during Jul
 y 22-23\, 2026\, at Tokyo\, Japan. The conference will focus on “Bridgin
 g the Gap: Multidisciplinary Approaches in Cancer Science and Radiology”
 .\nVenue: Tokyo\, Japan\nPlease visit our website at: https://cancertherap
 y.inovineconferences.com/We wish to share with your organization the excit
 ement and ideas for creation and exchange of knowledge and information in 
 the scientific field through our journal\, Conferences and other means. Yo
 u will find it interesting that through partnering with us you can reach w
 orld class university academicians\, eminent scientists from research inst
 itutions\; and experts from technical and manufacturing industries / compa
 nies.
END:VEVENT
END:VCALENDAR